BEGIN:VCALENDAR
VERSION:2.0
PRODID:-//Spears Books - ECPv6.15.20//NONSGML v1.0//EN
CALSCALE:GREGORIAN
METHOD:PUBLISH
X-WR-CALNAME:Spears Books
X-ORIGINAL-URL:https://spearsbooks.org
X-WR-CALDESC:Events for Spears Books
REFRESH-INTERVAL;VALUE=DURATION:PT1H
X-Robots-Tag:noindex
X-PUBLISHED-TTL:PT1H
BEGIN:VTIMEZONE
TZID:America/New_York
BEGIN:DAYLIGHT
TZOFFSETFROM:-0500
TZOFFSETTO:-0400
TZNAME:EDT
DTSTART:20220313T070000
END:DAYLIGHT
BEGIN:STANDARD
TZOFFSETFROM:-0400
TZOFFSETTO:-0500
TZNAME:EST
DTSTART:20221106T060000
END:STANDARD
BEGIN:DAYLIGHT
TZOFFSETFROM:-0500
TZOFFSETTO:-0400
TZNAME:EDT
DTSTART:20230312T070000
END:DAYLIGHT
BEGIN:STANDARD
TZOFFSETFROM:-0400
TZOFFSETTO:-0500
TZNAME:EST
DTSTART:20231105T060000
END:STANDARD
BEGIN:DAYLIGHT
TZOFFSETFROM:-0500
TZOFFSETTO:-0400
TZNAME:EDT
DTSTART:20240310T070000
END:DAYLIGHT
BEGIN:STANDARD
TZOFFSETFROM:-0400
TZOFFSETTO:-0500
TZNAME:EST
DTSTART:20241103T060000
END:STANDARD
END:VTIMEZONE
BEGIN:VEVENT
DTSTART;TZID=America/New_York:20231111T130000
DTEND;TZID=America/New_York:20231111T143000
DTSTAMP:20260423T180257
CREATED:20231010T014632Z
LAST-MODIFIED:20231010T014633Z
UID:32263-1699707600-1699713000@spearsbooks.org
SUMMARY:African Writers' Day
DESCRIPTION:In commemoration of International African Writers’ Day\, the editorial team at Spears Books invites Spears authors and prospective authors to an open house that will feature tips on manuscript preparation\, the publishing process & more!
URL:https://spearsbooks.org/event/african-writers-day/
LOCATION:Zoom\, 7830 W. Alameda Ave\, Denver\, CO\, 80226\, United States
CATEGORIES:Seminars
ATTACH;FMTTYPE=image/jpeg:https://spearsbooks.org/wp-content/uploads/2023/10/Spears-Open-House.jpg
ORGANIZER;CN="Spears Books":MAILTO:info@spearsmedia.com
END:VEVENT
END:VCALENDAR