BEGIN:VCALENDAR
VERSION:2.0
PRODID:-//Spears Books - ECPv6.15.20//NONSGML v1.0//EN
CALSCALE:GREGORIAN
METHOD:PUBLISH
X-WR-CALNAME:Spears Books
X-ORIGINAL-URL:https://spearsbooks.org
X-WR-CALDESC:Events for Spears Books
REFRESH-INTERVAL;VALUE=DURATION:PT1H
X-Robots-Tag:noindex
X-PUBLISHED-TTL:PT1H
BEGIN:VTIMEZONE
TZID:America/New_York
BEGIN:DAYLIGHT
TZOFFSETFROM:-0500
TZOFFSETTO:-0400
TZNAME:EDT
DTSTART:20230312T070000
END:DAYLIGHT
BEGIN:STANDARD
TZOFFSETFROM:-0400
TZOFFSETTO:-0500
TZNAME:EST
DTSTART:20231105T060000
END:STANDARD
BEGIN:DAYLIGHT
TZOFFSETFROM:-0500
TZOFFSETTO:-0400
TZNAME:EDT
DTSTART:20240310T070000
END:DAYLIGHT
BEGIN:STANDARD
TZOFFSETFROM:-0400
TZOFFSETTO:-0500
TZNAME:EST
DTSTART:20241103T060000
END:STANDARD
BEGIN:DAYLIGHT
TZOFFSETFROM:-0500
TZOFFSETTO:-0400
TZNAME:EDT
DTSTART:20250309T070000
END:DAYLIGHT
BEGIN:STANDARD
TZOFFSETFROM:-0400
TZOFFSETTO:-0500
TZNAME:EST
DTSTART:20251102T060000
END:STANDARD
END:VTIMEZONE
BEGIN:VEVENT
DTSTART;TZID=America/New_York:20240316T130000
DTEND;TZID=America/New_York:20240316T150000
DTSTAMP:20260423T173449
CREATED:20240127T153401Z
LAST-MODIFIED:20240127T153401Z
UID:32655-1710594000-1710601200@spearsbooks.org
SUMMARY:Ethnography Book Launch
DESCRIPTION:1:00 PM ET (USA) \nJoin us for a virtual launch and conversation about Jude D. Fokwang’s ethnography\, “Cultivating Moral Citizenship.” Moderated by Victor Gomia (Delaware State University)\, featuring reviews from Divine Fuh (University of Cape Town) and Rogers Orock (Louisiana State University)\, the virtual event will engage the author in discussions about citizenship\, the politics of grassroots-driven change\, and more. Signed copies of the ethnography will also be on sale.\nWhen: Mar 16\, 2024\, 01:00 PM Eastern Time (US and Canada) \nRegister in advance for this meeting:\nVirtual Book Launch on Zoom \nAfter registering\, you will receive a confirmation email containing information about joining the meeting.
URL:https://spearsbooks.org/event/virtual-book-launch-of-jude-fokwangs-ethnography/
LOCATION:Zoom\, 7830 W. Alameda Ave\, Denver\, CO\, 80226\, United States
CATEGORIES:Book Launch,Writing
ATTACH;FMTTYPE=image/jpeg:https://spearsbooks.org/wp-content/uploads/2024/01/Featured-image-for-book-Launch.jpg
ORGANIZER;CN="Spears Books":MAILTO:info@spearsmedia.com
END:VEVENT
END:VCALENDAR